
BEGIN:VCALENDAR
VERSION:2.0
PRODID:-//SP Pratteln-Augst-Giebenach - ECPv6.15.20//NONSGML v1.0//EN
CALSCALE:GREGORIAN
METHOD:PUBLISH
X-WR-CALNAME:SP Pratteln-Augst-Giebenach
X-ORIGINAL-URL:https://sp-pratteln.ch
X-WR-CALDESC:Veranstaltungen im SP Pratteln-Augst-Giebenach
REFRESH-INTERVAL;VALUE=DURATION:PT1H
X-Robots-Tag:noindex
X-PUBLISHED-TTL:PT1H
BEGIN:VTIMEZONE
TZID:Europe/Zurich
BEGIN:DAYLIGHT
TZOFFSETFROM:+0100
TZOFFSETTO:+0200
TZNAME:CEST
DTSTART:20250330T010000
END:DAYLIGHT
BEGIN:STANDARD
TZOFFSETFROM:+0200
TZOFFSETTO:+0100
TZNAME:CET
DTSTART:20251026T010000
END:STANDARD
BEGIN:DAYLIGHT
TZOFFSETFROM:+0100
TZOFFSETTO:+0200
TZNAME:CEST
DTSTART:20260329T010000
END:DAYLIGHT
BEGIN:STANDARD
TZOFFSETFROM:+0200
TZOFFSETTO:+0100
TZNAME:CET
DTSTART:20261025T010000
END:STANDARD
BEGIN:DAYLIGHT
TZOFFSETFROM:+0100
TZOFFSETTO:+0200
TZNAME:CEST
DTSTART:20270328T010000
END:DAYLIGHT
BEGIN:STANDARD
TZOFFSETFROM:+0200
TZOFFSETTO:+0100
TZNAME:CET
DTSTART:20271031T010000
END:STANDARD
END:VTIMEZONE
BEGIN:VEVENT
DTSTART;TZID=Europe/Zurich:20260428T193000
DTEND;TZID=Europe/Zurich:20260428T220000
DTSTAMP:20260420T021831
CREATED:20241111T134455Z
LAST-MODIFIED:20260112T141435Z
UID:10000039-1777404600-1777413600@sp-pratteln.ch
SUMMARY:GV SP-Sektion Pratteln- Augst-Giebenach
DESCRIPTION:Generalversammlung SP-Sektion Pratteln-Augst-Giebenach
URL:https://sp-pratteln.ch/veranstaltung/gv-sp-sektion-pratteln-augst-giebenach-2/
LOCATION:Schlossschulhaus\, Schlossstrasse 56 in Pratteln\, Vereinsraum rechts (Küche)
CATEGORIES:Hauptversammlung
END:VEVENT
BEGIN:VEVENT
DTSTART;TZID=Europe/Zurich:20260501T140000
DTEND;TZID=Europe/Zurich:20260501T170000
DTSTAMP:20260420T021831
CREATED:20240128T154230Z
LAST-MODIFIED:20260112T140005Z
UID:10000027-1777644000-1777654800@sp-pratteln.ch
SUMMARY:Kundgebung 1. Mai
DESCRIPTION:Kundgebung zum Tag der Arbeit
URL:https://sp-pratteln.ch/veranstaltung/kundgebung-1-mai/
END:VEVENT
BEGIN:VEVENT
DTSTART;TZID=Europe/Zurich:20260811T193000
DTEND;TZID=Europe/Zurich:20260811T220000
DTSTAMP:20260420T021831
CREATED:20240128T155141Z
LAST-MODIFIED:20260112T141147Z
UID:10000031-1786476600-1786485600@sp-pratteln.ch
SUMMARY:Sektionsversammlung
DESCRIPTION:Im Schlossschulhaus\, Schlossstrasse 56 in Pratteln\, Vereinsraum rechts
URL:https://sp-pratteln.ch/veranstaltung/sektionsversammlung-3/
LOCATION:Schlossschulhaus\, Schlossstrasse 56 in Pratteln\, Vereinsraum rechts (Küche)
CATEGORIES:Mitgliederversammlung
END:VEVENT
BEGIN:VEVENT
DTSTART;TZID=Europe/Zurich:20260829T193000
DTEND;TZID=Europe/Zurich:20260829T213000
DTSTAMP:20260420T021831
CREATED:20240128T154708Z
LAST-MODIFIED:20260112T142530Z
UID:10000028-1788031800-1788039000@sp-pratteln.ch
SUMMARY:Sektionsapero
DESCRIPTION:Gemütlicher Austausch mit Sektionsmitgliedern. \nOrt noch unbekannt
URL:https://sp-pratteln.ch/veranstaltung/sektionsapero-2/
CATEGORIES:Mitgliederversammlung,Stammtisch
END:VEVENT
BEGIN:VEVENT
DTSTART;TZID=Europe/Zurich:20261211T190000
DTEND;TZID=Europe/Zurich:20261211T230000
DTSTAMP:20260420T021831
CREATED:20240128T155406Z
LAST-MODIFIED:20260112T142125Z
UID:10000032-1797015600-1797030000@sp-pratteln.ch
SUMMARY:Weihnachts-Sektionsversammlung
DESCRIPTION:Im Schlossschulhaus\, Schlossstrasse 56 in Pratteln\, Vereinsraum rechts/Küche
URL:https://sp-pratteln.ch/veranstaltung/weihnachts-sektionsversammlung/
LOCATION:Schlossschulhaus\, Schlossstrasse 56 in Pratteln\, Vereinsraum rechts (Küche)
CATEGORIES:Mitgliederversammlung
END:VEVENT
END:VCALENDAR